BEGIN:VCALENDAR
VERSION:2.0
PRODID:-//DP Pro Event Calendar//3.2.7//EN
BEGIN:VEVENT
UID:9f5db6c9-36a9-4c81-a5ad-0bc6f5a6abdd
DTSTART;TZID=Europe/Berlin;VALUE=DATE:20260502
DTEND;TZID=Europe/Berlin;VALUE=DATE:20260503
DTSTAMP:20260423T094607Z
SUMMARY:Deadline: Letzter Eingang auf freiwillige Wiederholung\, Abgabe bei Stufenleitung
DESCRIPTION:
LOCATION:
URL:
END:VEVENT
BEGIN:VEVENT
UID:b53f1575-fb69-4d27-b6e5-22434816ed26
DTSTART;TZID=Europe/Berlin;VALUE=DATE:20260505
DTEND;TZID=Europe/Berlin;VALUE=DATE:20260506
DTSTAMP:20260423T094608Z
SUMMARY:Examen SCHN
DESCRIPTION:Q2 Deutsch GK9b1 Biologie
LOCATION:
URL:
END:VEVENT
BEGIN:VEVENT
UID:6ad822e9-d739-4219-9bd5-0a6aa7964fdd
DTSTART;TZID=Europe/Berlin:20260507T084500
DTEND;TZID=Europe/Berlin:20260507T091500
DTSTAMP:20260421T124608Z
SUMMARY:Begrüßung ABI
DESCRIPTION:Raum E106: FISC (gleichzeitig Prüfer)Einführende Hinweise vor der Abiturprüfung durch das Schulleitungsmitglied    1.) keine Hilfsmittel ? außer den zur Verfügung gestellten ? dürfen genutzt werden (auch nicht beim Toilettengang) Bei Nichtbeachtung (auch ohne Vorsatz) kann dies zum Nichtbestehen führen. Handys\, Smartwatches\, alle elektronischen Geräte dürfen nicht mitgeführt werden. Taschen und Jackenwerden im Raum vorne abgelegt\, lediglich Schreibutensilien\, Essen und Trinken\, ggf. einsehbare Glücksbringer dürfen sich an den Plätzen befinden\, einige SuS haben Ohropax dabei\, dieses wird durch die Prüferinnen und Prüfer vor der Nutzung kontrolliert)Falls doch: Briefumschlag beschriften (Schulleitungsmitglied gibt Handy im Schulbüro ab\, dort kann esnach der Prüfung abgeholt werden).    2.) Abfrage des Gesundheitszustandes ? Hinweis auf die Erklärung zum Gesundheitszustand (nach der Einführung ? aber vor dem Austeilen der Arbeiten auszufüllen und vom Schulleitungsmitglied einzusammeln =&gt\; Weiterleiten an THEI).    ? Nachträglich kann nicht mehr erklärt werden\, man fühle sich nicht wohl! Sobald die Prüfung begonnen wurde\, zählt diese als angetretene Abiturprüfung.     3.) Fragen dürfen nur beantwortet werden\, wenn diese ?technischer? Natur sind\, (z.B. bei unterschiedlichem Verständnis eines Operators) und müssen für alle gleichermaßen beantwortet werden. Es gibt keine individuelle Beratung.    4.) Korrekturrand für die Fachlehrkräfte falten    5.) Der versiegelte Umschlag wird nun von euch im Beisein des Prüfers und vor den Augen der Prüflinge geöffnet.    ? DieVerteilung der Aufgabenvorschläge erfolgt dann nach dem Einsammeln der Gesundheitserklärungen durch die Lehrkraft.Nach dem Verteilen wird dasEnde der Bearbeitungszeit vom Prüfer am Smartboard vermerkt.Weitere fachliche Besonderheiten zur Bearbeitung und dem Auswahlmodus erfolgen durch die Fachkraft.Zur Sicherheit\, sollten sich die Fachlehrkräfte nicht sicher sein\; hier die Bearbeitungszeiten:
LOCATION:Raum E106
URL:
END:VEVENT
BEGIN:VEVENT
UID:2446ce4f-13f2-4bc7-a799-516b1eae894c
DTSTART;TZID=Europe/Berlin;VALUE=DATE:20260508
DTEND;TZID=Europe/Berlin;VALUE=DATE:20260509
DTSTAMP:20260423T094608Z
SUMMARY:Fachpraktische Sport-Prüfungen (Leichtathletik und Turnen)
DESCRIPTION:
LOCATION:
URL:
END:VEVENT
BEGIN:VEVENT
UID:801cd51d-9cab-4a8f-babc-a49f18f4b538
DTSTART;TZID=Europe/Berlin;VALUE=DATE:20260511
DTEND;TZID=Europe/Berlin;VALUE=DATE:20260512
DTSTAMP:20260423T094608Z
SUMMARY:E-Phase Ku/Mu Praxistag
DESCRIPTION:
LOCATION:
URL:
END:VEVENT
BEGIN:VEVENT
UID:b0b46870-2266-4043-9f23-a454f36d2e43
DTSTART;TZID=Europe/Berlin;VALUE=DATE:20260518
DTEND;TZID=Europe/Berlin;VALUE=DATE:20260523
DTSTAMP:20260423T094607Z
SUMMARY:Schriftliche Haupt- &amp\; Realschulprüfungen
DESCRIPTION:
LOCATION:
URL:
END:VEVENT
BEGIN:VEVENT
UID:e7108755-e4e3-4502-9123-cc2c37952311
DTSTART;TZID=Europe/Berlin:20260520T080000
DTEND;TZID=Europe/Berlin:20260520T171000
DTSTAMP:20260423T094607Z
SUMMARY:Unterrichtsgang Hessischer Landtag
DESCRIPTION:Unterrichtsgang Hessischer Landtag mit folgenden Klassen:Powi  FRJO (30)POWI BRAU (20)
LOCATION:
URL:
END:VEVENT
BEGIN:VEVENT
UID:98a3ba24-12e5-40fb-aef3-85321cb69669
DTSTART;TZID=Europe/Berlin:20260520T141000
DTEND;TZID=Europe/Berlin:20260520T145000
DTSTAMP:20260423T094606Z
SUMMARY:BEP Sitzung
DESCRIPTION:AP: KUMP
LOCATION:
URL:
END:VEVENT
BEGIN:VEVENT
UID:1aa76464-9c5c-41e8-b0cd-58b984dbff04
DTSTART;TZID=Europe/Berlin:20260529T080000
DTEND;TZID=Europe/Berlin:20260529T131500
DTSTAMP:20260423T094607Z
SUMMARY:9a2 Projekttag Seelische Gesundheit
DESCRIPTION:SEIF
LOCATION:
URL:
END:VEVENT
BEGIN:VEVENT
UID:648cb9a1-c4e3-4f20-be0d-8875465bf41b
DTSTART;TZID=Europe/Berlin;VALUE=DATE:20260601
DTEND;TZID=Europe/Berlin;VALUE=DATE:20260604
DTSTAMP:20260423T094608Z
SUMMARY:Schriftliche Nachprüfungen Haupt- &amp\; Realschule
DESCRIPTION:
LOCATION:
URL:
END:VEVENT
BEGIN:VEVENT
UID:9865ee68-6fe6-47b0-9434-f4217d216424
DTSTART;TZID=Europe/Berlin;VALUE=DATE:20260611
DTEND;TZID=Europe/Berlin;VALUE=DATE:20260612
DTSTAMP:20260423T094608Z
SUMMARY:Notenschluss E2 + 5-8
DESCRIPTION:
LOCATION:
URL:
END:VEVENT
BEGIN:VEVENT
UID:1e857cbe-1489-4ce5-85e4-566b8e91b985
DTSTART;TZID=Europe/Berlin;VALUE=DATE:20260616
DTEND;TZID=Europe/Berlin;VALUE=DATE:20260617
DTSTAMP:20260423T094607Z
SUMMARY:Wandertag Jg 05
DESCRIPTION:
LOCATION:
URL:
END:VEVENT
BEGIN:VEVENT
UID:559205b2-fabc-483d-a972-5d171f8bc3f3
DTSTART;TZID=Europe/Berlin:20260617T141000
DTEND;TZID=Europe/Berlin:20260617T161000
DTSTAMP:20260423T094608Z
SUMMARY:Zulassungskonferenz E-Phase
DESCRIPTION:
LOCATION:
URL:
END:VEVENT
BEGIN:VEVENT
UID:f1e6c5e2-bb88-4cce-b5e4-c6d53d1cc485
DTSTART;TZID=Europe/Berlin;VALUE=DATE:20260622
DTEND;TZID=Europe/Berlin;VALUE=DATE:20260623
DTSTAMP:20260423T094607Z
SUMMARY:Abschlussfeier Jg. 9/10
DESCRIPTION:Jg. 09 15:00-17:00Jg. 10 Einlass ab 17:30\, Beginn 18:00
LOCATION:
URL:
END:VEVENT
BEGIN:VEVENT
UID:d0d8d216-76e9-45a7-9f91-2c503639a989
DTSTART;TZID=Europe/Berlin;VALUE=DATE:20260623
DTEND;TZID=Europe/Berlin;VALUE=DATE:20260626
DTSTAMP:20260423T094607Z
SUMMARY:Orientierungstage GOS\, Jahrgang 10
DESCRIPTION:
LOCATION:
URL:
END:VEVENT
BEGIN:VEVENT
UID:1edd594f-44e7-4bcd-b76e-e1830dea8f63
DTSTART;TZID=Europe/Berlin:20260624T095500
DTEND;TZID=Europe/Berlin:20260624T112500
DTSTAMP:20260423T094608Z
SUMMARY:Inforveranstaltung Duales Studium\, Aula\, LZ B
DESCRIPTION:________________________________________________________________________________Microsoft Teams Benötigen Sie Hilfe?   Jetzt an der Besprechung teilnehmen   Besprechungs-ID: 393 373 109 986 4 Kennung: Yx2PY9sk ________________________________Für Organisatoren: Besprechungsoptionen   ________________________________________________________________________________
LOCATION:An den Nußbäumen 1\, 64546 Mörfelden-Walldorf
URL:
END:VEVENT
BEGIN:VEVENT
UID:dd7d3f2b-7816-45bf-9549-e826abe6f84c
DTSTART;TZID=Europe/Berlin;VALUE=DATE:20270614
DTEND;TZID=Europe/Berlin;VALUE=DATE:20270619
DTSTAMP:20260330T084559Z
SUMMARY:Kursfahrt 6\, 9\, 12
DESCRIPTION:
LOCATION:
URL:
END:VEVENT
END:VCALENDAR